BEGIN:VCALENDAR
VERSION:2.0
PRODID:-//wp-events-plugin.com//7.2.3.1//EN
TZID:Europe/Rome
X-WR-TIMEZONE:Europe/Rome
BEGIN:VEVENT
UID:180@grisu.online
DTSTART;TZID=Europe/Rome:20260425T133000
DTEND;TZID=Europe/Rome:20260425T160000
DTSTAMP:20260420T153254Z
URL:https://grisu.online/events/invito-a-provare-halo-flashpoint/
SUMMARY:Invito a provare Halo: Flashpoint!
DESCRIPTION:Questo sabato 25 aprile nel pomeriggio ti aspettiamo alla Locan
 da dei Giochi Grisù per un evento dedicato a tutti gli appassionati di gi
 ochi da tavolo e dell’universo Halo!\nHalo: Flashpoint è un gioco di mi
 niature tattico per due giocatori. Inizia il tuo viaggio nell’arena di c
 ombattimento War Games come comandante di una squadra Spartan\, portando s
 ul tavolo armi iconiche e modalità classiche di Halo.\nUn gioco entusiasm
 ante\, facile da imparare ma difficile da padroneggiare\, che premia il sa
 ngue freddo anche sotto pressione!\nGuiderai una squadra di Spartans alla 
 vittoria o scatenerai la potenza degli Elite dei Banished contro i tuoi av
 versari?\nScegli la tua fazione e preparati a un’esperienza tattica defi
 nitiva!\nEvento aperto a tutti e completamente gratuito\nNon è richiesta 
 esperienza: vieni a provare\, divertirti e scoprire il gioco!\nTi aspettia
 mo per un pomeriggio di strategia\, azione e divertimento!
ATTACH;FMTTYPE=image/jpeg:https://i0.wp.com/grisu.online/wp-content/upload
 s/2026/04/halo.jpeg?fit=601%2C600&ssl=1
CATEGORIES:Sessione di gioco
LOCATION:Grisù negozio\, Via Alfonso Turconi 32\, Mendrisio\, 6850\, Svizz
 era
X-APPLE-STRUCTURED-LOCATION;VALUE=URI;X-ADDRESS=Via Alfonso Turconi 32\, Me
 ndrisio\, 6850\, Svizzera;X-APPLE-RADIUS=100;X-TITLE=Grisù negozio:geo:0,
 0
END:VEVENT
BEGIN:VTIMEZONE
TZID:Europe/Rome
X-LIC-LOCATION:Europe/Rome
BEGIN:DAYLIGHT
DTSTART:20260329T030000
TZOFFSETFROM:+0100
TZOFFSETTO:+0200
TZNAME:CEST
END:DAYLIGHT
END:VTIMEZONE
END:VCALENDAR